BEGIN:VCALENDAR
VERSION:2.0
PRODID:-//ChamberMaster//Event Calendar 2.0//EN
METHOD:PUBLISH
X-PUBLISHED-TTL:P3D
REFRESH-INTERVAL:P3D
CALSCALE:GREGORIAN
BEGIN:VEVENT
DTSTART:20130727T150000Z
DTEND:20130727T210000Z
X-MICROSOFT-CDO-ALLDAYEVENT:FALSE
SUMMARY:Warren County's National Dance Day
DESCRIPTION:A day of fun and dance! One dollar gets you in the door and its free to dance! We will have 3 dances for you to learn if you wish\, 2 were choreographed by Fox Network's So You Think You Can Dance choreographers. If you prefer to come and enjoy our vendors and just watch the dancing that's great too! Classes start at 10 am with stretch/yoga then continue with teaching each dance until the end when everyone will show off what they have learned by performing for everyone! All ages are encouraged to come and participate! Any proceeds will go to Kid's of the Community.
X-ALT-DESC;FMTTYPE=text/html:A day of fun and dance! One dollar gets you in the door and its free to dance! We will have 3 dances for you to learn if you wish\, 2 were choreographed by Fox Network&#39\;s So You Think You Can Dance choreographers. If you prefer to come and enjoy our vendors and just watch the dancing that&#39\;s great too! Classes start at 10 am with stretch/yoga then continue with teaching each dance until the end when everyone will show off what they have learned by performing for everyone! All ages are encouraged to come and participate! Any proceeds will go to Kid&#39\;s of the Community.
LOCATION:Warren County Middle School Football Field
UID:e.1486.137
SEQUENCE:3
DTSTAMP:20260419T121919Z
URL:http://business.warrentn.com/events/details/warren-county-s-national-dance-day-07-27-2013-137
END:VEVENT

END:VCALENDAR
