BEGIN:VCALENDAR
VERSION:2.0
PRODID:-//ChamberMaster//Event Calendar 2.0//EN
METHOD:PUBLISH
X-PUBLISHED-TTL:P3D
REFRESH-INTERVAL:P3D
CALSCALE:GREGORIAN
BEGIN:VEVENT
DTSTART:20130727T180000Z
DTEND:20130727T210000Z
X-MICROSOFT-CDO-ALLDAYEVENT:FALSE
SUMMARY:Blugrass Underground- Chip Taylor with Carrie Rodriguez
DESCRIPTION:"Critically acclaimed singer/songwriter\, Chip Taylor is a Renaissance man whose determination and dedication have permeated all facets of his life. Noted artists that have appeared on Taylor's recent albums include Lucinda Williams\, Rick Danko\, John Prine\, Guy Clark\, Rodney Crowell\, Bill Frisell\, Evie Sands and P.P. Arnold. Taylor has produced records for Neil Diamond\, James Taylor and The Original Flying Machine\, Evie Sands\, Carrie Rodriguez\, Kendel Carson and John Platania.\n\n\n\n\n\n\n"Carrie Luz Rodriguez (born 1978) is a Mexican-American singer-songwriter and the daughter of Texan singer-songwriter David Rodriuez and well-known Texas painter Katy Nail\, and is the granddaughter of prolific Texas essayist Frances Nail. She sings and plays the fiddle\, mandobird and tenor guitar. She was discovered by Chip Taylor playing with Americana artist Hayseed during the South by Southwest music festival in Austin\, Texas\, in 2001\, and he invited her to perform with him in Europe. They teamed up to record 2002's ''Let's Leave This Town''\, and have since released several albums together.\n\n\n\nRodriguez released her debut solo album\, ''Seven Angels on a Bicycle''\, on August 15\, 2006. She released her second album\, ''She Ain't Me'' on August 5\, 2008. Her latest album\, ''Carrie Rodriguez Live in Louisville'' 2009\, featuring her opening performance for Lucinda Williams\, is now available through her website."
X-ALT-DESC;FMTTYPE=text/html:<span style="font-family: Arial\, Helvetica\, sans-serif\;">&quot\;Critically acclaimed singer/songwriter\, Chip Taylor is a Renaissance man whose determination and dedication have permeated all facets of his life.&nbsp\;</span><span style="line-height: 25.59375px\; font-family: arial\;">Noted artists that have appeared on Taylor&rsquo\;s recent albums include Lucinda Williams\, Rick </span>Danko<span style="line-height: 25.59375px\; font-family: arial\;">\, John </span>Prine<span style="line-height: 25.59375px\; font-family: arial\;">\, Guy Clark\, Rodney </span>Crowell<span style="line-height: 25.59375px\; font-family: arial\;">\, Bill </span>Frisell<span style="line-height: 25.59375px\; font-family: arial\;">\, </span>Evie<span style="line-height: 25.59375px\; font-family: arial\;"> Sands and P.P. Arnold.&nbsp\;</span><span style="line-height: 25.59375px\; font-family: arial\;">Taylor has produced records for Neil Diamond\, James Taylor and The Original Flying Machine\, </span>Evie<span style="line-height: 25.59375px\; font-family: arial\;"> Sands\, Carrie Rodriguez\, </span>Kendel<span style="line-height: 25.59375px\; font-family: arial\;"> Carson and John </span>Platania<span style="line-height: 25.59375px\; font-family: arial\;">.</span><br />\n<br />\n<hr />\n<br />\n<span style="font-family: Arial\, Helvetica\, sans-serif\;">&quot\;Carrie Luz Rodriguez (born 1978) is a Mexican-American singer-songwriter and the daughter of Texan singer-songwriter David Rodriuez and well-known Texas painter Katy Nail\, and is the granddaughter of prolific Texas essayist Frances Nail. She sings and plays the fiddle\, mandobird and tenor guitar. She was discovered by Chip Taylor playing with Americana artist Hayseed during the South by Southwest music festival in Austin\, Texas\, in 2001\, and he invited her to perform with him in Europe. They teamed up to record 2002&#39\;s &#39\;&#39\;Let&#39\;s Leave This Town&#39\;&#39\;\, and have since released several albums together.</span><br style="color: rgb(225\, 183\, 151)\; font-family: Arial\, Helvetica\, sans-serif\;" />\n<br style="color: rgb(225\, 183\, 151)\; font-family: Arial\, Helvetica\, sans-serif\;" />\n<span style="font-family: Arial\, Helvetica\, sans-serif\;">Rodriguez released her debut solo album\, &#39\;&#39\;Seven Angels on a Bicycle&#39\;&#39\;\, on August 15\, 2006. She released her second album\, &#39\;&#39\;She Ain&#39\;t Me&#39\;&#39\; on August 5\, 2008. Her latest album\, &#39\;&#39\;Carrie Rodriguez Live in Louisville&#39\;&#39\; 2009\, featuring her opening performance for Lucinda Williams\, is now available through her website.&quot\;</span><br style="color: rgb(225\, 183\, 151)\; font-family: Arial\, Helvetica\, sans-serif\;" />\n<br />\n
LOCATION:The Volcano Room\, Cumberland Caverns
UID:e.1486.141
SEQUENCE:3
DTSTAMP:20260419T122031Z
URL:http://business.warrentn.com/events/details/blugrass-underground-chip-taylor-with-carrie-rodriguez-07-27-2013-141
END:VEVENT

END:VCALENDAR
