BEGIN:VCALENDAR
VERSION:2.0
PRODID:-//ChamberMaster//Event Calendar 2.0//EN
METHOD:PUBLISH
X-PUBLISHED-TTL:P3D
REFRESH-INTERVAL:P3D
CALSCALE:GREGORIAN
BEGIN:VEVENT
DTSTART:20130720T120000Z
DTEND:20130720T120000Z
X-MICROSOFT-CDO-ALLDAYEVENT:FALSE
SUMMARY:6th Annual McMinnville Breakfast Rotary & Friends of our Rivers Ride & Cleanup
DESCRIPTION:7:00 AM - 9:00 AM\n\n	Registration / Breakfast at Pepper Branch Park -\n\n	809 Morrison St.\n\n	GPS: 35.667372\, -85.7956899\n\n	\n\n	First Group leaves at 7:30 AM\,\n\n	Last Group leaves at 9:00 AM\n\n	  11:00 AM - 2:00 PM - Lunch at Rocket Park - Intersection\n\n	of Bersheeba Hwy and Cope St.\n\n	GPS: 35.679418\, -85.761284\n\n	\n\n	Breakfast & Lunch provided for all volunteers.\n\n	\n\n	Breakfast Rotary will provide life jackets\, rubber gloves\, bags\,\n\n	etc.\n\n	\n\n	If you have a canoe\, kayak\, or life jacket\, please bring it.
X-ALT-DESC;FMTTYPE=text/html:7:00 AM - 9:00 AM\n<div>\n	Registration / Breakfast at Pepper Branch Park -</div>\n<div>\n	809 Morrison St.</div>\n<div>\n	GPS: 35.667372\, -85.7956899</div>\n<div>\n	<br />\n	First Group leaves at 7:30 AM\,</div>\n<div>\n	Last Group leaves at 9:00 AM</div>\n<div>\n	&bull\; 11:00 AM - 2:00 PM - Lunch at Rocket Park - Intersection</div>\n<div>\n	of Bersheeba Hwy and Cope St.</div>\n<div>\n	GPS: 35.679418\, -85.761284</div>\n<div>\n	<br />\n	Breakfast &amp\; Lunch provided for all volunteers.</div>\n<div>\n	<br />\n	Breakfast Rotary will provide life jackets\, rubber gloves\, bags\,</div>\n<div>\n	etc.<br />\n	<br />\n	If you have a canoe\, kayak\, or life jacket\, please bring it.</div>\n
LOCATION:
UID:e.1486.135
SEQUENCE:3
DTSTAMP:20260419T122442Z
URL:http://business.warrentn.com/events/details/6th-annual-mcminnville-breakfast-rotary-friends-of-our-rivers-ride-cleanup-07-20-2013-135
END:VEVENT

END:VCALENDAR
